BEGIN:VCALENDAR
VERSION:2.0
PRODID:-//eventon.com NONSGML v1.0//EN
CALSCALE:GREGORIAN
METHOD:PUBLISH
BEGIN:VEVENT
UID:69e5e4799803a
DTSTAMP:20260420T083153Z
DTSTART:20210401T200000Z
DTEND:20210401T220000Z
LOCATION:Boatyard 310 Acacia Road
SUMMARY:Thurs MS Practice
DESCRIPTION:Arrive 3:45\nhttps://www.verobeachrowing.org/events/thurs-ms-pr
 actice-6/
URL:https://www.verobeachrowing.org/events/thurs-ms-practice-6/
END:VEVENT
END:VCALENDAR