BEGIN:VCALENDAR
VERSION:2.0
PRODID:-//eventon.com NONSGML v1.0//EN
CALSCALE:GREGORIAN
METHOD:PUBLISH
BEGIN:VEVENT
UID:69e88b471de93
DTSTAMP:20260422T084807Z
DTSTART:20210313
DTEND:20210314
LOCATION:Turkey Lake
SUMMARY:OARS Regatta
DESCRIPTION:Turkey Lake\,  Bill Frederick Park\nhttps://www.verobeachrowing
 .org/events/oars-regatta-2/
URL:https://www.verobeachrowing.org/events/oars-regatta-2/
END:VEVENT
END:VCALENDAR