BEGIN:VCALENDAR
VERSION:2.0
PRODID:-//eventon.com NONSGML v1.0//EN
CALSCALE:GREGORIAN
METHOD:PUBLISH
BEGIN:VEVENT
UID:69e88778f245e
DTSTAMP:20260422T083152Z
DTSTART:20250405
DTEND:20250406
LOCATION:Canal 54\,  Fellsmere
SUMMARY:FSRA East District Championship - Includes MS
DESCRIPTION:\nhttps://www.verobeachrowing.org/events/fsra-east-district-cha
 mpionship-2/
URL:https://www.verobeachrowing.org/events/fsra-east-district-championship-2/
END:VEVENT
END:VCALENDAR